0.00852919145063922
0.000000
0.000000
-0.00852919145063922
-117.214755665172
34.8405265808105
