0.00876450972123578
0.000000
0.000000
-0.00876450972123578
-123.025356639515
37.2482414245605
