0.00812577681107953
0.000000
0.000000
-0.00812577681107953
-84.83973347057
29.9395885467529
