0.00881322687322443
0.000000
0.000000
-0.00881322687322443
-97.0059675736861
37.7146377563477
