0.00865869695490057
0.000000
0.000000
-0.00865869695490057
-120.232611222701
36.1991424560547
