0.00852502996271307
0.000000
0.000000
-0.00852502996271307
-96.3985124067827
34.7953834533691
