0.00984522039240057
0.000000
0.000000
-0.00984522039240057
-111.430563493208
45.7734375
