0.00935630104758521
0.000000
0.000000
-0.00935630104758521
-122.267888849432
42.3269844055176
