0.00885428688742896
0.000000
0.000000
-0.00885428688742896
-81.1462839299982
38.0999298095703
