0.00918615167791193
0.000000
0.000000
-0.00918615167791193
-106.936845259233
40.9851913452148
