0.0106819568980824
0.000000
0.000000
-0.0106819568980824
-120.830586520108
50.618537902832
