0.00957730379971589
0.000000
0.000000
-0.00957730379971589
-99.2391884543679
43.9537582397461
