0.00891068892045453
0.000000
0.000000
-0.00891068892045453
-86.0752071033825
38.6184387207031
