0.00875790682705964
0.000000
0.000000
-0.00875790682705964
-79.5033714988015
37.1844253540039
