0.009691162109375
0.000000
0.000000
-0.009691162109375
-125.623352050781
44.7460708618164
