0.00967246315696021
0.000000
0.000000
-0.00967246315696021
-103.477735346014
44.6179275512695
