0.0083353770862926
0.000000
0.000000
-0.0083353770862926
-92.32561007413
32.6292285919189
