0.0083174549449574
0.000000
0.000000
-0.0083174549449574
-95.711239901456
32.4123001098633
