0.00891149347478693
0.000000
0.000000
-0.00891149347478693
-98.2374510331587
38.625659942627
