0.00931135697798297
0.000000
0.000000
-0.00931135697798297
-86.6154056895863
41.9806213378906
