0.00858503861860797
0.000000
0.000000
-0.00858503861860797
-108.697513233532
35.4368858337402
