0.00981775457208807
0.000000
0.000000
-0.00981775457208807
-88.4903245405717
45.5938835144043
