0.00926402698863635
0.000000
0.000000
-0.00926402698863635
-110.992205533114
41.6096076965332
