0.00993008700284089
0.000000
0.000000
-0.00993008700284089
-99.7080223777077
46.318775177002
