0.00861319802024146
0.000000
0.000000
-0.00861319802024146
-87.1499612981623
35.7316284179688
