0.00847118030894885
0.000000
0.000000
-0.00847118030894885
-109.23935213956
34.2025737762451
