0.00843364368785511
0.000000
0.000000
-0.00843364368785511
-87.9890927401456
33.7792510986328
