0.00853326970880682
0.000000
0.000000
-0.00853326970880682
-101.813978715376
34.8846473693848
