0.00978707053444604
0.000000
0.000000
-0.00978707053444604
-86.4081212824041
45.3914451599121
