0.00923325972123578
0.000000
0.000000
-0.00923325972123578
-78.209980357777
41.3651466369629
