0.00963825572620739
0.000000
0.000000
-0.00963825572620739
-96.6144762906161
44.381519317627
