0.0105132779208096
0.000000
0.000000
-0.0105132779208096
-95.3639824607155
49.7281532287598
