0.00938260165127839
0.000000
0.000000
-0.00938260165127839
-77.2257836081765
42.527214050293
