0.0082472645152699
0.000000
0.000000
-0.0082472645152699
-102.754178133878
31.5409984588623
