0.00909889914772729
0.000000
0.000000
-0.00909889914772729
-102.697672063654
40.2631988525391
