0.00919150612571021
0.000000
0.000000
-0.00919150612571021
-124.434453790838
41.0286636352539
