0.00813165838068182
0.000000
0.000000
-0.00813165838068182
-99.9504991011186
30.020206451416
