0.00854442249644886
0.000000
0.000000
-0.00854442249644886
-83.6053265658292
35.0047149658203
