0.00951962557705964
0.000000
0.000000
-0.00951962557705964
-80.8598854758523
43.5408973693848
