0.0099141346324574
0.000000
0.000000
-0.0099141346324574
-119.208241549405
46.2173881530762
