0.00867198597301136
0.000000
0.000000
-0.00867198597301136
-83.7205990878018
36.333797454834
