0.00967215798117896
0.000000
0.000000
-0.00967215798117896
-74.0396478826349
44.6158447265625
