0.0103262051669034
0.000000
0.000000
-0.0103262051669034
-111.703864357688
48.6937065124512
