0.00945928400213068
0.000000
0.000000
-0.00945928400213068
-127.12878556685
43.1003036499023
