0.00970952814275568
0.000000
0.000000
-0.00970952814275568
-78.8978590531783
44.8711204528809
