0.00996903852982953
0.000000
0.000000
-0.00996903852982953
-94.1817134510387
46.5644874572754
