0.0101549460671165
0.000000
0.000000
-0.0101549460671165
-87.7664850408381
47.6996116638184
