0.0170176558061079
0.000000
0.000000
-0.0170176558061079
-152.604289661754
69.7158584594727
