0.00797815496271307
0.000000
0.000000
-0.00797815496271307
-82.8064485029741
27.8049926757813
