0.00880692915482953
0.000000
0.000000
-0.00880692915482953
-104.351078380238
37.6549072265625
